Package: viper Version: 1.40.0 Command: rm -rf viper.buildbin-libdir && mkdir viper.buildbin-libdir && F:\biocbuild\bbs-3.20-bioc\R\bin\R.exe CMD INSTALL --build --library=viper.buildbin-libdir viper_1.40.0.tar.gz StartedAt: 2025-01-31 09:51:24 -0500 (Fri, 31 Jan 2025) EndedAt: 2025-01-31 09:52:05 -0500 (Fri, 31 Jan 2025) EllapsedTime: 40.7 seconds RetCode: 0 Status: OK PackageFile: viper_1.40.0.zip PackageFileSize: 575.7 KiB