Package: viper Version: 1.40.0 Command: /home/biocbuild/R/R/bin/R CMD build --keep-empty-dirs --no-resave-data viper StartedAt: 2025-01-31 03:25:17 -0000 (Fri, 31 Jan 2025) EndedAt: 2025-01-31 03:29:29 -0000 (Fri, 31 Jan 2025) EllapsedTime: 252.2 seconds RetCode: 0 Status: OK PackageFile: viper_1.40.0.tar.gz PackageFileSize: 492.7 KiB