Package: vissE Version: 1.14.0 Command: /Library/Frameworks/R.framework/Resources/bin/R CMD build --keep-empty-dirs --no-resave-data vissE StartedAt: 2025-02-03 23:10:10 -0500 (Mon, 03 Feb 2025) EndedAt: 2025-02-03 23:20:09 -0500 (Mon, 03 Feb 2025) EllapsedTime: 599.0 seconds RetCode: 1 Status: ERROR PackageFile: None PackageFileSize: NA