Package: vissE Version: 1.14.0 Command: chmod a+r vissE -R && F:\biocbuild\bbs-3.20-bioc\R\bin\R.exe CMD build --keep-empty-dirs --no-resave-data vissE StartedAt: 2025-02-03 22:47:06 -0500 (Mon, 03 Feb 2025) EndedAt: 2025-02-03 22:55:55 -0500 (Mon, 03 Feb 2025) EllapsedTime: 528.9 seconds RetCode: 0 Status: OK PackageFile: vissE_1.14.0.tar.gz PackageFileSize: 989.1 KiB