Package: vissE Version: 1.14.0 Command: F:\biocbuild\bbs-3.20-bioc\R\bin\R.exe CMD INSTALL vissE StartedAt: 2025-02-03 17:13:35 -0500 (Mon, 03 Feb 2025) EndedAt: 2025-02-03 17:13:46 -0500 (Mon, 03 Feb 2025) EllapsedTime: 11.7 seconds RetCode: 0 Status: OK