Package: vsclust Version: 1.8.0 Command: /Library/Frameworks/R.framework/Resources/bin/R CMD build --keep-empty-dirs --no-resave-data vsclust StartedAt: 2025-02-04 10:30:31 -0500 (Tue, 04 Feb 2025) EndedAt: 2025-02-04 10:32:53 -0500 (Tue, 04 Feb 2025) EllapsedTime: 141.6 seconds RetCode: 0 Status: OK PackageFile: vsclust_1.8.0.tar.gz PackageFileSize: 3.715 MiB