Package: vsclust Version: 1.8.0 Command: /Library/Frameworks/R.framework/Resources/bin/R CMD check --install=check:vsclust.install-out.txt --library=/Library/Frameworks/R.framework/Resources/library --no-vignettes --timings vsclust_1.8.0.tar.gz StartedAt: 2025-02-04 11:53:09 -0500 (Tue, 04 Feb 2025) EndedAt: 2025-02-04 12:03:13 -0500 (Tue, 04 Feb 2025) EllapsedTime: 604.8 seconds RetCode: 0 Status: WARNINGS CheckDir: vsclust.Rcheck Warnings: 1