Package: vsclust
Version: 1.8.0
Command: /home/biocbuild/bbs-3.20-bioc/R/bin/R CMD check --install=check:vsclust.install-out.txt --library=/home/biocbuild/bbs-3.20-bioc/R/site-library --timings vsclust_1.8.0.tar.gz
StartedAt: 2025-02-18 03:14:00 -0500 (Tue, 18 Feb 2025)
EndedAt: 2025-02-18 03:20:07 -0500 (Tue, 18 Feb 2025)
EllapsedTime: 366.4 seconds
RetCode: 0
Status: WARNINGS
CheckDir: vsclust.Rcheck
Warnings: 1