Package: vsclust
Version: 1.7.0
Command: C:\Users\biocbuild\bbs-3.20-bioc\R\bin\R.exe CMD INSTALL vsclust
StartedAt: 2024-07-15 15:46:58 -0400 (Mon, 15 Jul 2024)
EndedAt: 2024-07-15 15:47:39 -0400 (Mon, 15 Jul 2024)
EllapsedTime: 41.6 seconds
RetCode: 0
Status: OK