Package: vsclust Version: 1.8.0 Command: /home/biocbuild/R/R/bin/R CMD INSTALL vsclust StartedAt: 2025-02-03 20:54:10 -0000 (Mon, 03 Feb 2025) EndedAt: 2025-02-03 20:54:51 -0000 (Mon, 03 Feb 2025) EllapsedTime: 41.0 seconds RetCode: 0 Status: OK