Package: vsn Version: 3.74.0 Command: rm -rf vsn.buildbin-libdir && mkdir vsn.buildbin-libdir && /Users/biocbuild/BBS/utils/build-universal.sh vsn_3.74.0.tar.gz /Library/Frameworks/R.framework/Resources/bin/R vsn.buildbin-libdir StartedAt: 2025-02-05 18:16:23 -0500 (Wed, 05 Feb 2025) EndedAt: 2025-02-05 18:16:36 -0500 (Wed, 05 Feb 2025) EllapsedTime: 13.4 seconds RetCode: 0 Status: OK PackageFile: vsn_3.74.0.tgz PackageFileSize: 2.506 MiB