Package: vsn Version: 3.74.0 Command: /Library/Frameworks/R.framework/Resources/bin/R CMD build --keep-empty-dirs --no-resave-data vsn StartedAt: 2025-02-04 10:31:12 -0500 (Tue, 04 Feb 2025) EndedAt: 2025-02-04 10:32:18 -0500 (Tue, 04 Feb 2025) EllapsedTime: 65.2 seconds RetCode: 0 Status: OK PackageFile: vsn_3.74.0.tar.gz PackageFileSize: 2.252 MiB