Package: vsn Version: 3.74.0 Command: /Library/Frameworks/R.framework/Resources/bin/R CMD check --install=check:vsn.install-out.txt --library=/Library/Frameworks/R.framework/Resources/library --no-vignettes --timings vsn_3.74.0.tar.gz StartedAt: 2025-02-05 14:07:37 -0500 (Wed, 05 Feb 2025) EndedAt: 2025-02-05 14:08:46 -0500 (Wed, 05 Feb 2025) EllapsedTime: 69.4 seconds RetCode: 0 Status: OK CheckDir: vsn.Rcheck Warnings: 0