Package: vsn Version: 3.74.0 Command: /Library/Frameworks/R.framework/Resources/bin/R CMD build --keep-empty-dirs --no-resave-data vsn StartedAt: 2025-02-10 23:11:15 -0500 (Mon, 10 Feb 2025) EndedAt: 2025-02-10 23:13:03 -0500 (Mon, 10 Feb 2025) EllapsedTime: 108.4 seconds RetCode: 0 Status: OK PackageFile: vsn_3.74.0.tar.gz PackageFileSize: 2.253 MiB