Package: vsn Version: 3.74.0 Command: /home/biocbuild/bbs-3.20-bioc/R/bin/R CMD INSTALL vsn StartedAt: 2025-02-03 15:22:55 -0500 (Mon, 03 Feb 2025) EndedAt: 2025-02-03 15:23:02 -0500 (Mon, 03 Feb 2025) EllapsedTime: 7.4 seconds RetCode: 0 Status: OK