Package: vsn Version: 3.74.0 Command: chmod a+r vsn -R && F:\biocbuild\bbs-3.20-bioc\R\bin\R.exe CMD build --keep-empty-dirs --no-resave-data vsn StartedAt: 2025-02-03 22:47:37 -0500 (Mon, 03 Feb 2025) EndedAt: 2025-02-03 22:49:01 -0500 (Mon, 03 Feb 2025) EllapsedTime: 84.0 seconds RetCode: 0 Status: OK PackageFile: vsn_3.74.0.tar.gz PackageFileSize: 1.304 MiB