Package: vsn Version: 3.74.0 Command: /home/biocbuild/R/R/bin/R CMD build --keep-empty-dirs --no-resave-data vsn StartedAt: 2025-02-04 03:50:52 -0000 (Tue, 04 Feb 2025) EndedAt: 2025-02-04 03:52:20 -0000 (Tue, 04 Feb 2025) EllapsedTime: 88.1 seconds RetCode: 0 Status: OK PackageFile: vsn_3.74.0.tar.gz PackageFileSize: 1.35 MiB