Package: vtpnet Version: 0.46.0 Command: /Library/Frameworks/R.framework/Resources/bin/R CMD build --keep-empty-dirs --no-resave-data vtpnet StartedAt: 2025-02-03 23:11:12 -0500 (Mon, 03 Feb 2025) EndedAt: 2025-02-03 23:14:14 -0500 (Mon, 03 Feb 2025) EllapsedTime: 181.9 seconds RetCode: 0 Status: OK PackageFile: vtpnet_0.46.0.tar.gz PackageFileSize: 20.22 MiB