Package: vtpnet Version: 0.46.0 Command: /home/biocbuild/bbs-3.20-bioc/R/bin/R CMD INSTALL vtpnet StartedAt: 2025-02-03 15:58:43 -0500 (Mon, 03 Feb 2025) EndedAt: 2025-02-03 15:59:40 -0500 (Mon, 03 Feb 2025) EllapsedTime: 56.5 seconds RetCode: 0 Status: OK