Package: vtpnet Version: 0.46.0 Command: rm -rf vtpnet.buildbin-libdir && mkdir vtpnet.buildbin-libdir && F:\biocbuild\bbs-3.20-bioc\R\bin\R.exe CMD INSTALL --build --library=vtpnet.buildbin-libdir vtpnet_0.46.0.tar.gz StartedAt: 2025-02-11 09:43:50 -0500 (Tue, 11 Feb 2025) EndedAt: 2025-02-11 09:44:32 -0500 (Tue, 11 Feb 2025) EllapsedTime: 42.8 seconds RetCode: 0 Status: OK PackageFile: vtpnet_0.46.0.zip PackageFileSize: 20.13 MiB