Package: vtpnet Version: 0.46.0 Command: /home/biocbuild/R/R/bin/R CMD INSTALL vtpnet StartedAt: 2025-02-03 21:12:21 -0000 (Mon, 03 Feb 2025) EndedAt: 2025-02-03 21:13:21 -0000 (Mon, 03 Feb 2025) EllapsedTime: 60.1 seconds RetCode: 0 Status: OK