Package: vulcan Version: 1.28.0 Command: rm -rf vulcan.buildbin-libdir && mkdir vulcan.buildbin-libdir && /Users/biocbuild/BBS/utils/build-universal.sh vulcan_1.28.0.tar.gz /Library/Frameworks/R.framework/Resources/bin/R vulcan.buildbin-libdir StartedAt: 2025-02-12 17:30:20 -0500 (Wed, 12 Feb 2025) EndedAt: 2025-02-12 17:31:35 -0500 (Wed, 12 Feb 2025) EllapsedTime: 74.8 seconds RetCode: 0 Status: OK PackageFile: vulcan_1.28.0.tgz PackageFileSize: 462.5 KiB