Package: vulcan Version: 1.28.0 Command: /Library/Frameworks/R.framework/Resources/bin/R CMD build --keep-empty-dirs --no-resave-data vulcan StartedAt: 2025-02-04 10:32:20 -0500 (Tue, 04 Feb 2025) EndedAt: 2025-02-04 10:34:14 -0500 (Tue, 04 Feb 2025) EllapsedTime: 113.9 seconds RetCode: 0 Status: OK PackageFile: vulcan_1.28.0.tar.gz PackageFileSize: 390.3 KiB