Package: vulcan Version: 1.28.0 Command: /Library/Frameworks/R.framework/Resources/bin/R CMD INSTALL vulcan StartedAt: 2025-02-03 17:26:47 -0500 (Mon, 03 Feb 2025) EndedAt: 2025-02-03 17:27:56 -0500 (Mon, 03 Feb 2025) EllapsedTime: 69.7 seconds RetCode: 0 Status: OK