Package: vulcan Version: 1.28.0 Command: rm -rf vulcan.buildbin-libdir && mkdir vulcan.buildbin-libdir && /Users/biocbuild/BBS/utils/build-universal.sh vulcan_1.28.0.tar.gz /Library/Frameworks/R.framework/Resources/bin/R vulcan.buildbin-libdir StartedAt: 2025-01-31 13:55:31 -0500 (Fri, 31 Jan 2025) EndedAt: 2025-01-31 13:57:29 -0500 (Fri, 31 Jan 2025) EllapsedTime: 118.3 seconds RetCode: 0 Status: OK PackageFile: vulcan_1.28.0.tgz PackageFileSize: 463.4 KiB