Package: vulcan Version: 1.28.0 Command: /Library/Frameworks/R.framework/Resources/bin/R CMD build --keep-empty-dirs --no-resave-data vulcan StartedAt: 2025-02-03 23:11:46 -0500 (Mon, 03 Feb 2025) EndedAt: 2025-02-03 23:14:57 -0500 (Mon, 03 Feb 2025) EllapsedTime: 190.3 seconds RetCode: 0 Status: OK PackageFile: vulcan_1.28.0.tar.gz PackageFileSize: 390.4 KiB