Package: vulcan Version: 1.28.0 Command: /home/biocbuild/bbs-3.20-bioc/R/bin/R CMD build --keep-empty-dirs --no-resave-data --md5 vulcan StartedAt: 2025-02-03 19:47:26 -0500 (Mon, 03 Feb 2025) EndedAt: 2025-02-03 19:48:46 -0500 (Mon, 03 Feb 2025) EllapsedTime: 80.1 seconds RetCode: 0 Status: OK PackageFile: vulcan_1.28.0.tar.gz PackageFileSize: 391.8 KiB