Package: vulcan Version: 1.28.0 Command: /home/biocbuild/bbs-3.20-bioc/R/bin/R CMD INSTALL vulcan StartedAt: 2025-02-03 15:57:03 -0500 (Mon, 03 Feb 2025) EndedAt: 2025-02-03 15:58:13 -0500 (Mon, 03 Feb 2025) EllapsedTime: 69.5 seconds RetCode: 0 Status: OK