Package: vulcan Version: 1.27.0 Command: rm -rf vulcan.buildbin-libdir && mkdir vulcan.buildbin-libdir && C:\Users\biocbuild\bbs-3.20-bioc\R\bin\R.exe CMD INSTALL --build --library=vulcan.buildbin-libdir vulcan_1.27.0.tar.gz StartedAt: 2024-07-16 06:53:50 -0400 (Tue, 16 Jul 2024) EndedAt: 2024-07-16 06:55:02 -0400 (Tue, 16 Jul 2024) EllapsedTime: 71.9 seconds RetCode: 0 Status: OK PackageFile: vulcan_1.27.0.zip PackageFileSize: 330.3 KiB