Package: vulcan Version: 1.28.0 Command: F:\biocbuild\bbs-3.20-bioc\R\bin\R.exe CMD INSTALL vulcan StartedAt: 2025-02-03 17:12:59 -0500 (Mon, 03 Feb 2025) EndedAt: 2025-02-03 17:14:09 -0500 (Mon, 03 Feb 2025) EllapsedTime: 70.0 seconds RetCode: 0 Status: OK