Package: vulcan Version: 1.28.0 Command: /home/biocbuild/R/R/bin/R CMD INSTALL vulcan StartedAt: 2025-02-03 21:11:52 -0000 (Mon, 03 Feb 2025) EndedAt: 2025-02-03 21:13:05 -0000 (Mon, 03 Feb 2025) EllapsedTime: 72.9 seconds RetCode: 0 Status: OK