Package: waddR
Version: 1.20.0
Command: /Library/Frameworks/R.framework/Resources/bin/R CMD build --keep-empty-dirs --no-resave-data waddR
StartedAt: 2024-11-08 19:35:15 -0500 (Fri, 08 Nov 2024)
EndedAt: 2024-11-08 19:35:43 -0500 (Fri, 08 Nov 2024)
EllapsedTime: 27.3 seconds
RetCode: 1
Status: ERROR
PackageFile: None
PackageFileSize: NA