Package: waddR Version: 1.20.0 Command: /Library/Frameworks/R.framework/Resources/bin/R CMD build --keep-empty-dirs --no-resave-data waddR StartedAt: 2025-02-03 23:12:18 -0500 (Mon, 03 Feb 2025) EndedAt: 2025-02-03 23:14:43 -0500 (Mon, 03 Feb 2025) EllapsedTime: 144.8 seconds RetCode: 1 Status: ERROR PackageFile: None PackageFileSize: NA