Package: waddR Version: 1.20.0 Command: /home/biocbuild/bbs-3.20-bioc/R/bin/R CMD check --install=check:waddR.install-out.txt --library=/home/biocbuild/bbs-3.20-bioc/R/site-library --timings waddR_1.20.0.tar.gz StartedAt: 2025-02-04 03:33:48 -0500 (Tue, 04 Feb 2025) EndedAt: 2025-02-04 03:47:49 -0500 (Tue, 04 Feb 2025) EllapsedTime: 840.1 seconds RetCode: 0 Status: OK CheckDir: waddR.Rcheck Warnings: 0