Package: wateRmelon Version: 2.12.0 Command: /Library/Frameworks/R.framework/Resources/bin/R CMD INSTALL wateRmelon StartedAt: 2025-02-03 18:01:46 -0500 (Mon, 03 Feb 2025) EndedAt: 2025-02-03 18:02:53 -0500 (Mon, 03 Feb 2025) EllapsedTime: 66.4 seconds RetCode: 0 Status: OK