Package: wateRmelon Version: 2.12.0 Command: /Library/Frameworks/R.framework/Resources/bin/R CMD INSTALL wateRmelon StartedAt: 2025-02-03 16:47:28 -0500 (Mon, 03 Feb 2025) EndedAt: 2025-02-03 16:49:26 -0500 (Mon, 03 Feb 2025) EllapsedTime: 117.8 seconds RetCode: 0 Status: OK