Package: wateRmelon Version: 2.12.0 Command: /home/biocbuild/bbs-3.20-bioc/R/bin/R CMD INSTALL wateRmelon StartedAt: 2025-02-03 16:08:08 -0500 (Mon, 03 Feb 2025) EndedAt: 2025-02-03 16:09:16 -0500 (Mon, 03 Feb 2025) EllapsedTime: 67.6 seconds RetCode: 0 Status: OK