Package: wateRmelon
Version: 2.11.2
Command: rm -rf wateRmelon.buildbin-libdir && mkdir wateRmelon.buildbin-libdir && C:\Users\biocbuild\bbs-3.20-bioc\R\bin\R.exe CMD INSTALL --build --library=wateRmelon.buildbin-libdir wateRmelon_2.11.2.tar.gz
StartedAt: 2024-07-16 06:53:51 -0400 (Tue, 16 Jul 2024)
EndedAt: 2024-07-16 06:55:08 -0400 (Tue, 16 Jul 2024)
EllapsedTime: 76.9 seconds
RetCode: 0
Status: OK
PackageFile: wateRmelon_2.11.2.zip
PackageFileSize: 3.642 <A href="http://en.wikipedia.org/wiki/MiB" target="_blank">MiB</A>