Package: wateRmelon Version: 2.12.0 Command: rm -rf wateRmelon.buildbin-libdir && mkdir wateRmelon.buildbin-libdir && F:\biocbuild\bbs-3.20-bioc\R\bin\R.exe CMD INSTALL --build --library=wateRmelon.buildbin-libdir wateRmelon_2.12.0.tar.gz StartedAt: 2025-02-04 09:45:37 -0500 (Tue, 04 Feb 2025) EndedAt: 2025-02-04 09:47:32 -0500 (Tue, 04 Feb 2025) EllapsedTime: 114.6 seconds RetCode: 0 Status: OK PackageFile: wateRmelon_2.12.0.zip PackageFileSize: 3.641 MiB