Package: wateRmelon Version: 2.12.0 Command: chmod a+r wateRmelon -R && F:\biocbuild\bbs-3.20-bioc\R\bin\R.exe CMD build --keep-empty-dirs --no-resave-data wateRmelon StartedAt: 2025-02-03 22:49:01 -0500 (Mon, 03 Feb 2025) EndedAt: 2025-02-03 22:51:36 -0500 (Mon, 03 Feb 2025) EllapsedTime: 155.2 seconds RetCode: 0 Status: OK PackageFile: wateRmelon_2.12.0.tar.gz PackageFileSize: 3.223 MiB