Package: wateRmelon Version: 2.12.0 Command: F:\biocbuild\bbs-3.20-bioc\R\bin\R.exe CMD check --no-multiarch --install=check:wateRmelon.install-out.txt --library=F:\biocbuild\bbs-3.20-bioc\R\library --no-vignettes --timings wateRmelon_2.12.0.tar.gz StartedAt: 2025-02-04 07:29:28 -0500 (Tue, 04 Feb 2025) EndedAt: 2025-02-04 07:37:40 -0500 (Tue, 04 Feb 2025) EllapsedTime: 492.5 seconds RetCode: 0 Status: WARNINGS CheckDir: wateRmelon.Rcheck Warnings: 5