Package: wateRmelon Version: 2.12.0 Command: F:\biocbuild\bbs-3.20-bioc\R\bin\R.exe CMD INSTALL wateRmelon StartedAt: 2025-02-03 17:15:51 -0500 (Mon, 03 Feb 2025) EndedAt: 2025-02-03 17:16:59 -0500 (Mon, 03 Feb 2025) EllapsedTime: 67.7 seconds RetCode: 0 Status: OK