Package: wateRmelon Version: 2.12.0 Command: /home/biocbuild/R/R/bin/R CMD build --keep-empty-dirs --no-resave-data wateRmelon StartedAt: 2025-02-04 03:52:25 -0000 (Tue, 04 Feb 2025) EndedAt: 2025-02-04 03:54:50 -0000 (Tue, 04 Feb 2025) EllapsedTime: 145.3 seconds RetCode: 0 Status: OK PackageFile: wateRmelon_2.12.0.tar.gz PackageFileSize: 3.269 MiB