Package: wateRmelon Version: 2.12.0 Command: /home/biocbuild/R/R/bin/R CMD check --install=check:wateRmelon.install-out.txt --library=/home/biocbuild/R/R/site-library --no-vignettes --timings wateRmelon_2.12.0.tar.gz StartedAt: 2025-02-04 12:07:43 -0000 (Tue, 04 Feb 2025) EndedAt: 2025-02-04 12:15:57 -0000 (Tue, 04 Feb 2025) EllapsedTime: 493.8 seconds RetCode: 0 Status: WARNINGS CheckDir: wateRmelon.Rcheck Warnings: 5