Package: wateRmelon Version: 2.12.0 Command: /home/biocbuild/R/R/bin/R CMD INSTALL wateRmelon StartedAt: 2025-02-03 21:22:23 -0000 (Mon, 03 Feb 2025) EndedAt: 2025-02-03 21:23:35 -0000 (Mon, 03 Feb 2025) EllapsedTime: 71.9 seconds RetCode: 0 Status: OK