Package: webbioc Version: 1.78.0 Command: /Library/Frameworks/R.framework/Resources/bin/R CMD INSTALL webbioc StartedAt: 2025-02-03 16:25:56 -0500 (Mon, 03 Feb 2025) EndedAt: 2025-02-03 16:26:46 -0500 (Mon, 03 Feb 2025) EllapsedTime: 49.7 seconds RetCode: 0 Status: OK