Package: webbioc Version: 1.78.0 Command: /home/biocbuild/bbs-3.20-bioc/R/bin/R CMD check --install=check:webbioc.install-out.txt --library=/home/biocbuild/bbs-3.20-bioc/R/site-library --timings webbioc_1.78.0.tar.gz StartedAt: 2025-02-04 03:35:31 -0500 (Tue, 04 Feb 2025) EndedAt: 2025-02-04 03:36:58 -0500 (Tue, 04 Feb 2025) EllapsedTime: 87.1 seconds RetCode: 0 Status: OK CheckDir: webbioc.Rcheck Warnings: 0