Package: webbioc Version: 1.78.0 Command: chmod a+r webbioc -R && F:\biocbuild\bbs-3.20-bioc\R\bin\R.exe CMD build --keep-empty-dirs --no-resave-data webbioc StartedAt: 2025-02-03 22:49:26 -0500 (Mon, 03 Feb 2025) EndedAt: 2025-02-03 22:50:12 -0500 (Mon, 03 Feb 2025) EllapsedTime: 46.2 seconds RetCode: 0 Status: OK PackageFile: webbioc_1.78.0.tar.gz PackageFileSize: 175.4 KiB