Package: widgetTools Version: 1.84.0 Command: /home/biocbuild/R/R/bin/R CMD check --install=check:widgetTools.install-out.txt --library=/home/biocbuild/R/R/site-library --no-vignettes --timings widgetTools_1.84.0.tar.gz StartedAt: 2025-02-04 12:08:19 -0000 (Tue, 04 Feb 2025) EndedAt: 2025-02-04 12:08:41 -0000 (Tue, 04 Feb 2025) EllapsedTime: 22.0 seconds RetCode: 0 Status: WARNINGS CheckDir: widgetTools.Rcheck Warnings: 1