Package: wiggleplotr Version: 1.30.0 Command: /Library/Frameworks/R.framework/Resources/bin/R CMD check --install=check:wiggleplotr.install-out.txt --library=/Library/Frameworks/R.framework/Resources/library --no-vignettes --timings wiggleplotr_1.30.0.tar.gz StartedAt: 2025-02-01 13:21:28 -0500 (Sat, 01 Feb 2025) EndedAt: 2025-02-01 13:22:57 -0500 (Sat, 01 Feb 2025) EllapsedTime: 88.7 seconds RetCode: 0 Status: OK CheckDir: wiggleplotr.Rcheck Warnings: 0